BEGIN:VCALENDAR
VERSION:2.0
PRODID:-//ChamberMaster//Event Calendar 2.0//EN
METHOD:PUBLISH
X-PUBLISHED-TTL:P3D
REFRESH-INTERVAL:P3D
CALSCALE:GREGORIAN
BEGIN:VEVENT
DTSTART:20220621T150000Z
DTEND:20220621T160000Z
X-MICROSOFT-CDO-ALLDAYEVENT:FALSE
SUMMARY:Alzheimer's Support Group
DESCRIPTION:GracePointe Crossing in partnership with Cambridge ACT on Alzehimer's\, offer a monthly in-person support group for caregivers\, families and friends who have been touched by Alzheimer's or other dementias. Meetings provide education\, resources and support.\n\n\n\nMonthly meeting every 3rd Tuesday\n\nNo RSVP needed
X-ALT-DESC;FMTTYPE=text/html:GracePointe Crossing in partnership with Cambridge ACT on Alzehimer&#39\;s\, offer a monthly in-person support group for caregivers\, families and friends who have been touched by Alzheimer&#39\;s or other dementias. Meetings provide education\, resources and support.<br />\n<br />\nMonthly meeting every 3rd Tuesday<br />\nNo RSVP needed
LOCATION:Heritage Center\, located on the GracePointe Crossing Campus 322 RiverHills Place North\, Cambridge
UID:e.3631.1981
SEQUENCE:3
DTSTAMP:20260422T103132Z
URL:http://business.north65chamber.com/events/details/alzheimer-s-support-group-06-21-2022-1981
END:VEVENT

END:VCALENDAR
