BEGIN:VCALENDAR
VERSION:2.0
PRODID:-//ChamberMaster//Event Calendar 2.0//EN
METHOD:PUBLISH
X-PUBLISHED-TTL:P3D
REFRESH-INTERVAL:P3D
CALSCALE:GREGORIAN
BEGIN:VEVENT
DTSTART:20211015T180000Z
DTEND:20211015T210000Z
X-MICROSOFT-CDO-ALLDAYEVENT:FALSE
SUMMARY:Pottery Make It!
DESCRIPTION:We're making hand-shaped porcelain ornaments. Join us at the Calico Moose between 1 p.m. and 3 p.m. to create your own ornament(s). This is a 2 part class: in this Make It! portion\, you will create your ornaments to be kiln fired. Then\, show up for a Glaze It! class to glaze your creation. Price is $20 for both sessions\, and $2 per ornament.
X-ALT-DESC;FMTTYPE=text/html:We&#39\;re making hand-shaped porcelain ornaments. Join us at the Calico Moose between 1 p.m. and 3 p.m. to create your own ornament(s). This is a 2 part class: in this Make It! portion\, you will create your ornaments to be kiln fired. Then\, show up for a Glaze It! class to glaze your creation. Price is $20 for both sessions\, and $2 per ornament.
LOCATION:The Calico Moose Studio 119 Main St. N. Cambridge\, MN 55008
UID:e.3631.1824
SEQUENCE:3
DTSTAMP:20260425T123124Z
URL:http://business.north65chamber.com/events/details/pottery-make-it-1824
END:VEVENT

END:VCALENDAR
