BEGIN:VCALENDAR
VERSION:2.0
PRODID:-//ChamberMaster//Event Calendar 2.0//EN
METHOD:PUBLISH
X-PUBLISHED-TTL:P3D
REFRESH-INTERVAL:P3D
CALSCALE:GREGORIAN
BEGIN:VEVENT
DTSTART:20260815T150000Z
DTEND:20260815T200000Z
X-MICROSOFT-CDO-ALLDAYEVENT:FALSE
SUMMARY:Annual Arts & Crafts Fair + Chalk Art Contest
DESCRIPTION:Annual City of Cambridge Art Fair
X-ALT-DESC;FMTTYPE=text/html:Annual City of Cambridge Art Fair
LOCATION:City Center Mall located at 300 3rd Ave NE\, Cambridge\, MN 55008
UID:e.3631.4700
SEQUENCE:3
DTSTAMP:20260424T193653Z
URL:https://business.north65chamber.com/events/details/annual-arts-crafts-fair-chalk-art-contest-4700
END:VEVENT

END:VCALENDAR
