BEGIN:VCALENDAR
VERSION:2.0
PRODID:-//ChamberMaster//Event Calendar 2.0//EN
METHOD:PUBLISH
X-PUBLISHED-TTL:P3D
REFRESH-INTERVAL:P3D
CALSCALE:GREGORIAN
BEGIN:VEVENT
DTSTART:20260625T150000Z
DTEND:20260625T190000Z
X-MICROSOFT-CDO-ALLDAYEVENT:FALSE
SUMMARY:Cambridge City Kids Event
DESCRIPTION:Thursday\, June 25\, 2026 - Bounce Houses in the Park\n\n\n\nThursday\, July 23\, 2026 - Art in the Park\n\n\n\nThursday\, August 27\, 2026 - Little Blue's Petting Zoo & Snake Discovery
X-ALT-DESC;FMTTYPE=text/html:<span style="font-family:calibri\,sans-serif"><span style="font-size:12.0pt">Thursday\, June 25\, 2026 - Bounce Houses in the Park<br />\n<br />\nThursday\, July 23\, 2026 - Art in the Park<br />\n<br />\nThursday\, August 27\, 2026 -&nbsp\;Little Blue&#39\;s Petting Zoo &amp\; Snake Discovery</span></span>
LOCATION:Cambridge City Park located at 810 2nd Ave SW Cambridge\, MN 55008
UID:e.3631.4694
SEQUENCE:3
DTSTAMP:20260424T162012Z
URL:https://business.north65chamber.com/events/details/cambridge-city-kids-event-4694
END:VEVENT

END:VCALENDAR
