BEGIN:VCALENDAR
VERSION:2.0
PRODID:-//ChamberMaster//Event Calendar 2.0//EN
METHOD:PUBLISH
X-PUBLISHED-TTL:P3D
REFRESH-INTERVAL:P3D
CALSCALE:GREGORIAN
BEGIN:VEVENT
DTSTART:20260626T220000Z
DTEND:20260627T000000Z
X-MICROSOFT-CDO-ALLDAYEVENT:FALSE
SUMMARY:City of Cambridge Concerts in the Park
DESCRIPTION:Friday\, June 26\, 2026 - To be announced\n\n\n\nFriday\, July 31\, 2026 - To be announced\n\n\n\nFriday\, August 28\, 2026 - The Culture Collective playing a Prince Tribute
X-ALT-DESC;FMTTYPE=text/html:<span style="font-family:calibri\,sans-serif"><span style="font-size:12.0pt">Friday\, June 26\, 2026 - To be announced<br />\n<br />\nFriday\, July 31\, 2026&nbsp\;</span></span><span style="font-family:calibri\,sans-serif\; font-size:16px">- To be announced</span><br />\n<br />\n<span style="font-family:calibri\,sans-serif"><span style="font-size:12.0pt">Friday\, August 28\, 2026 -&nbsp\;The Culture Collective playing a Prince Tribute</span></span>
LOCATION:Cambridge City Park located at 810 2nd Ave SW Cambridge\, MN 55008
UID:e.3631.4697
SEQUENCE:3
DTSTAMP:20260424T162029Z
URL:https://business.north65chamber.com/events/details/city-of-cambridge-concerts-in-the-park-4697
END:VEVENT

END:VCALENDAR
