BEGIN:VCALENDAR
VERSION:2.0
PRODID:-//ChamberMaster//Event Calendar 2.0//EN
METHOD:PUBLISH
X-PUBLISHED-TTL:P3D
REFRESH-INTERVAL:P3D
CALSCALE:GREGORIAN
BEGIN:VEVENT
DTSTART:20260127T003000Z
DTEND:20260127T013000Z
X-MICROSOFT-CDO-ALLDAYEVENT:FALSE
SUMMARY:Communicate to Connect: Mastering the Art of Behavior & Trust
DESCRIPTION:This is a powerful Master Class to help you connect and communicate more effectively at work\, home\, and your community. We will talk about 3 proven keys to building trust and reducing misunderstandings and how to learn to spot common communication breakdowns caused by style differences and how to adjust to create more connection and less conflict.
X-ALT-DESC;FMTTYPE=text/html:This is a powerful Master Class to help you connect and communicate more effectively at work\, home\, and your community. We will talk about 3 proven keys to building trust and reducing misunderstandings and how to learn to spot common communication breakdowns caused by style differences and how to adjust to create more connection and less conflict.<br />\n&nbsp\;
LOCATION:Online. Zoom link will be sent once registered.
UID:e.3631.4596
SEQUENCE:3
DTSTAMP:20260424T180945Z
URL:https://business.north65chamber.com/events/details/communicate-to-connect-mastering-the-art-of-behavior-trust-4596
END:VEVENT

END:VCALENDAR
