BEGIN:VCALENDAR
VERSION:2.0
PRODID:-//ChamberMaster//Event Calendar 2.0//EN
METHOD:PUBLISH
X-PUBLISHED-TTL:P3D
REFRESH-INTERVAL:P3D
CALSCALE:GREGORIAN
BEGIN:VEVENT
DTSTART:20260618T223000Z
DTEND:20260619T013000Z
X-MICROSOFT-CDO-ALLDAYEVENT:FALSE
SUMMARY:Discover Downtown Cambridge - Third Thursday Concert
DESCRIPTION:Thursday\, June 18\, 2026 - Bad Jack\n\n\n\nThursday\, July 16\, 2026 - Jonah & the Whales\n\n\n\nThursday\, August 20\, 2026 - Yet to be announced
X-ALT-DESC;FMTTYPE=text/html:<span style="font-family:calibri\,sans-serif"><span style="font-size:12.0pt">Thursday\, June 18\, 2026 - Bad Jack<br />\n<br />\nThursday\, July 16\, 2026 -&nbsp\;Jonah &amp\; the Whales<br />\n<br />\nThursday\, August 20\, 2026 - Yet to be announced</span></span>
LOCATION:Downtown Cambridge\, MN
UID:e.3631.4691
SEQUENCE:3
DTSTAMP:20260424T131253Z
URL:https://business.north65chamber.com/events/details/discover-downtown-cambridge-third-thursday-concert-4691
END:VEVENT

END:VCALENDAR
