BEGIN:VCALENDAR
VERSION:2.0
PRODID:-//ChamberMaster//Event Calendar 2.0//EN
METHOD:PUBLISH
X-PUBLISHED-TTL:P3D
REFRESH-INTERVAL:P3D
CALSCALE:GREGORIAN
BEGIN:VEVENT
DTSTART:20250829T220000Z
DTEND:20250830T000000Z
X-MICROSOFT-CDO-ALLDAYEVENT:FALSE
SUMMARY:FREE Concerts in Cambridge City Park!
DESCRIPTION:Friday\, June 274th - Taylor's Vision\, a tribute to Taylor Swift\n\nFriday\, July 25th - Lookin' Back\, a tribute to Boston\n\nFriday\, August 29th - Benny & The Jets\, a tribute to piano rock including Elton John\, Billy Joel\, Lionel Ritchie.
X-ALT-DESC;FMTTYPE=text/html:Friday\, June 274th - Taylor&#39\;s Vision\, a tribute to Taylor Swift<br />\nFriday\, July 25th - Lookin&#39\; Back\, a tribute to Boston<br />\nFriday\, August 29th - Benny &amp\; The Jets\, a tribute to piano rock including Elton John\, Billy Joel\, Lionel Ritchie.
LOCATION:Cambridge City Park 810 2nd Ave SW Cambridge\, MN 55008
UID:e.3631.4397
SEQUENCE:3
DTSTAMP:20260425T023924Z
URL:https://business.north65chamber.com/events/details/free-concerts-in-cambridge-city-park-08-22-2025-4397
END:VEVENT

END:VCALENDAR
