BEGIN:VCALENDAR
VERSION:2.0
PRODID:-//ChamberMaster//Event Calendar 2.0//EN
METHOD:PUBLISH
X-PUBLISHED-TTL:P3D
REFRESH-INTERVAL:P3D
CALSCALE:GREGORIAN
BEGIN:VEVENT
DTSTART;VALUE=DATE:20270501
DTEND;VALUE=DATE:20270502
TRANSP:TRANSPARENT
X-MICROSOFT-CDO-ALLDAYEVENT:TRUE
SUMMARY:Isanti City Wide Garage Sales
DESCRIPTION:The first Saturday of May is traditionally the Isanti City Wide Garage Sale weekend.\n\nLocal papers may offer garage sale ads.\n\nScotsman/County News Review\n\n\n\nYou do not need to register to participate.\n\nMany sales begin earlier in the week or extend into Sunday. \n\nYou determine the times/dates of your own sale.
X-ALT-DESC;FMTTYPE=text/html:<br />\nThe first Saturday of May is traditionally the Isanti City Wide Garage Sale weekend.<br />\nLocal papers may offer garage sale ads.<br />\n<a href="https://business.north65chamber.com/list/member/scotsman-county-news-review-206">Scotsman/County News Review</a><br />\n<br />\nYou do not need to register to participate.<br />\nMany sales begin earlier in the week or extend into Sunday.&nbsp\;<br />\nYou determine the times/dates of your own sale.&nbsp\; &nbsp\;
LOCATION:
UID:e.3631.3181
SEQUENCE:3
DTSTAMP:20260425T104434Z
URL:https://business.north65chamber.com/events/details/isanti-city-wide-garage-sales-05-01-2027-3181
END:VEVENT

END:VCALENDAR
