BEGIN:VCALENDAR
VERSION:2.0
PRODID:-//ChamberMaster//Event Calendar 2.0//EN
METHOD:PUBLISH
X-PUBLISHED-TTL:P3D
REFRESH-INTERVAL:P3D
CALSCALE:GREGORIAN
BEGIN:VEVENT
DTSTART:20260123T003000Z
DTEND:20260123T020000Z
X-MICROSOFT-CDO-ALLDAYEVENT:FALSE
SUMMARY:Isanti County 4-H Info Night (Open House)
DESCRIPTION:Join us on Thursday\, January 22nd 6:30pm-8pm at the Isanti Community Center\, 208 1/2 1st Avenue Northwest\, Isanti\, MN 55040.\n\n \n\nAll are welcome! Stop by and learn about our K-13 programs in the county. Free pizza (while supplies last)\n\n\n\nLearn more about our programs here: https://extension.umn.edu/local/isanti
X-ALT-DESC;FMTTYPE=text/html:<div>Join us on Thursday\, January 22nd 6:30pm-8pm at the Isanti Community Center\, 208 1/2 1st Avenue Northwest\, Isanti\, MN 55040.<br />\n&nbsp\;</div>\n\n<div>All are welcome! Stop by and learn about our K-13 programs in the county. Free pizza (while supplies last)</div>\n\n<div><br />\nLearn more about our programs here:&nbsp\;<a class="x1i10hfl xjbqb8w x1ejq31n x18oe1m7 x1sy0etr xstzfhl x972fbf x10w94by x1qhh985 x14e42zd x9f619 x1ypdohk xt0psk2 x3ct3a4 xdj266r x14z9mp xat24cr x1lziwak xexx8yu xyri2b x18d9i69 x1c1uobl x16tdsg8 x1hl2dhg xggy1nq x1a2a7pz xkrqix3 x1sur9pj x1fey0fg x1s688f" href="https://extension.umn.edu/local/isanti?fbclid=IwZXh0bgNhZW0CMTAAYnJpZBExMTRJOUVLc1BSRGNWYVRONXNydGMGYXBwX2lkEDIyMjAzOTE3ODgyMDA4OTIAAR5GSI09ghctuobU-i0Mf25cIFoJFLhRCMCEC9dZG3wuwKF3CIKG9_LfOSONOQ_aem_gdkq1eOGPaK1KZcyNqHRbQ" rel="nofollow noreferrer" style="color: rgb(0\, 100\, 209)\; cursor: pointer\; text-decoration-line: none\; text-align: inherit\; font-weight: 600\; list-style-type: none\; box-sizing: border-box\; background-color: transparent\; display: inline\; outline: none\; -webkit-tap-highlight-color: transparent\; touch-action: manipulation\; border-inline-width: 0px\; margin-inline: 0px\; border-inline-style: none\; padding-inline: 0px\; padding-bottom: 0px\; border-top-style: none\; border-bottom-width: 0px\; border-bottom-style: none\; border-top-width: 0px\; margin-bottom: 0px\; margin-top: 0px\; padding-top: 0px\; font-family: inherit\;" tabindex="0" target="_blank">https://extension.umn.edu/local/isanti</a></div>\n
LOCATION:Isanti Community Center\, 208 1/2 1st Avenue Northwest\, Isanti\, MN 55040.
UID:e.3631.4513
SEQUENCE:3
DTSTAMP:20260424T180918Z
URL:https://business.north65chamber.com/events/details/isanti-county-4-h-info-night-open-house-01-22-2026-4513
END:VEVENT

END:VCALENDAR
