BEGIN:VCALENDAR
VERSION:2.0
PRODID:-//ChamberMaster//Event Calendar 2.0//EN
METHOD:PUBLISH
X-PUBLISHED-TTL:P3D
REFRESH-INTERVAL:P3D
CALSCALE:GREGORIAN
BEGIN:VEVENT
DTSTART:20211218T160000Z
DTEND:20211218T180000Z
X-MICROSOFT-CDO-ALLDAYEVENT:FALSE
SUMMARY:Vintage Sign Workshop
DESCRIPTION:Come to the Calico Moose Studio to create your own unique "vintage" winter sign. All materials will be included\, no experience is necessary. Artist Julle will be there to guide you through the process and will have her own designs available for you to create a one-of-a-kind piece of decor.
X-ALT-DESC;FMTTYPE=text/html:Come to the Calico Moose Studio to create your own unique &quot\;vintage&quot\; winter sign. All materials will be included\, no experience is necessary. Artist Julle will be there to guide you through the process and will have her own designs available for you to create a one-of-a-kind piece of decor.
LOCATION:The Calico Moose Studio
UID:e.3631.1871
SEQUENCE:3
DTSTAMP:20260425T204323Z
URL:https://business.north65chamber.com/events/details/vintage-sign-workshop-1871
END:VEVENT

END:VCALENDAR
