BEGIN:VCALENDAR
VERSION:2.0
PRODID:-//ChamberMaster//Event Calendar 2.0//EN
METHOD:PUBLISH
X-PUBLISHED-TTL:P3D
REFRESH-INTERVAL:P3D
CALSCALE:GREGORIAN
BEGIN:VEVENT
DTSTART:20220615T180000Z
DTEND:20220615T190000Z
X-MICROSOFT-CDO-ALLDAYEVENT:FALSE
SUMMARY:Women's Business Alliance Ignite Confidence Series
DESCRIPTION:The 2022 "Ignite Confidence Series" will cover a range of topics that inspire a confident mindset\, the skills and resources needed to grow your business and reach your goals.\n\n\n\nThe Women's Business Alliance is a program of the Entrepreneur Fund\, and certified Women's Business Center of the SBA\, that provides specialized advising\, training\, networking and access to capital for women entrepreneurs across 17 counties in Minnesota and Wisconsin. The WBA is funded in part through a Cooperative Agreement with the U.S. Small Business Administration.
X-ALT-DESC;FMTTYPE=text/html:<span style="font-family:arial\;"><strong><span style="font-size:16px\;"><span style="color: rgb(81\, 94\, 89)\;">The 2022 &quot\;Ignite Confidence Series&quot\; will cover a range of topics that inspire a confident mindset\, the skills and resources needed to grow your business and reach your goals.</span></span></strong></span><br />\n<br />\n<em><strong><span style="color:#444444\;"><span style="font-family:arial\,sans-serif\;"><span style="font-size:11.5pt\;">The Women&rsquo\;s Business Alliance</span></span></span></strong><span style="color:#444444\;"><span style="font-family:arial\,sans-serif\;"><span style="font-size:11.5pt\;"> is a program of the Entrepreneur Fund\, and certified Women&rsquo\;s Business Center of the SBA\, that provides specialized advising\, training\, networking and access to capital for women entrepreneurs across 17 counties in Minnesota and Wisconsin. The WBA is funded in part through a Cooperative Agreement with the U.S. Small Business Administration.&nbsp\;</span></span></span></em><br />\n<br />\n&nbsp\;
LOCATION:
UID:e.3631.2128
SEQUENCE:3
DTSTAMP:20260420T114009Z
URL:https://business.north65chamber.com/events/details/women-s-business-alliance-ignite-confidence-series-2128
END:VEVENT

END:VCALENDAR
